BEGIN:VCALENDAR
VERSION:2.0
PRODID:-//SV Pforzen - ECPv6.15.20//NONSGML v1.0//EN
CALSCALE:GREGORIAN
METHOD:PUBLISH
X-WR-CALNAME:SV Pforzen
X-ORIGINAL-URL:https://svpforzen.de
X-WR-CALDESC:Veranstaltungen für SV Pforzen
REFRESH-INTERVAL;VALUE=DURATION:PT1H
X-Robots-Tag:noindex
X-PUBLISHED-TTL:PT1H
BEGIN:VTIMEZONE
TZID:Europe/Berlin
BEGIN:DAYLIGHT
TZOFFSETFROM:+0100
TZOFFSETTO:+0200
TZNAME:CEST
DTSTART:20240331T010000
END:DAYLIGHT
BEGIN:STANDARD
TZOFFSETFROM:+0200
TZOFFSETTO:+0100
TZNAME:CET
DTSTART:20241027T010000
END:STANDARD
BEGIN:DAYLIGHT
TZOFFSETFROM:+0100
TZOFFSETTO:+0200
TZNAME:CEST
DTSTART:20250330T010000
END:DAYLIGHT
BEGIN:STANDARD
TZOFFSETFROM:+0200
TZOFFSETTO:+0100
TZNAME:CET
DTSTART:20251026T010000
END:STANDARD
BEGIN:DAYLIGHT
TZOFFSETFROM:+0100
TZOFFSETTO:+0200
TZNAME:CEST
DTSTART:20260329T010000
END:DAYLIGHT
BEGIN:STANDARD
TZOFFSETFROM:+0200
TZOFFSETTO:+0100
TZNAME:CET
DTSTART:20261025T010000
END:STANDARD
END:VTIMEZONE
BEGIN:VEVENT
DTSTART;TZID=Europe/Berlin:20250830T080000
DTEND;TZID=Europe/Berlin:20250830T110000
DTSTAMP:20260419T221513
CREATED:20240130T180129Z
LAST-MODIFIED:20240130T180203Z
UID:10000945-1756540800-1756551600@svpforzen.de
SUMMARY:Altpapiersammlung
DESCRIPTION:Einmal im Monat sammeln wir Altpapier und Kartonagen von allen Haushalten ein.\nEinfach euer Altpapier und Kartonagen getrennt und gebündelt am Samstag bis 8:00 Uhr auf den Gehweg legen. Wir holen es dann ab.\nBis ca. 11:00 Uhr habt ihr auch die Möglichkeit das Altpapier selbst auf dem Parkplatz des Sportparks in den Container zu entsorgen.
URL:https://svpforzen.de/event/altpapiersammlung/2025-08-30/
LOCATION:Gemeindegebiet Pforzen\, 87666 Pforzen
CATEGORIES:Allgemein,Termine & Veranstaltungen
ATTACH;FMTTYPE=image/png:https://svpforzen.de/wp-content/uploads/2021/12/BLOG_POSTS_NEWS_Altpapiersammlung.png
END:VEVENT
BEGIN:VEVENT
DTSTART;TZID=Europe/Berlin:20250726T080000
DTEND;TZID=Europe/Berlin:20250726T110000
DTSTAMP:20260419T221513
CREATED:20240130T180129Z
LAST-MODIFIED:20240130T180203Z
UID:10000944-1753516800-1753527600@svpforzen.de
SUMMARY:Altpapiersammlung
DESCRIPTION:Einmal im Monat sammeln wir Altpapier und Kartonagen von allen Haushalten ein.\nEinfach euer Altpapier und Kartonagen getrennt und gebündelt am Samstag bis 8:00 Uhr auf den Gehweg legen. Wir holen es dann ab.\nBis ca. 11:00 Uhr habt ihr auch die Möglichkeit das Altpapier selbst auf dem Parkplatz des Sportparks in den Container zu entsorgen.
URL:https://svpforzen.de/event/altpapiersammlung/2025-07-26/
LOCATION:Gemeindegebiet Pforzen\, 87666 Pforzen
CATEGORIES:Allgemein,Termine & Veranstaltungen
ATTACH;FMTTYPE=image/png:https://svpforzen.de/wp-content/uploads/2021/12/BLOG_POSTS_NEWS_Altpapiersammlung.png
END:VEVENT
BEGIN:VEVENT
DTSTART;TZID=Europe/Berlin:20250628T080000
DTEND;TZID=Europe/Berlin:20250628T110000
DTSTAMP:20260419T221513
CREATED:20240130T180129Z
LAST-MODIFIED:20240130T180203Z
UID:10000943-1751097600-1751108400@svpforzen.de
SUMMARY:Altpapiersammlung
DESCRIPTION:Einmal im Monat sammeln wir Altpapier und Kartonagen von allen Haushalten ein.\nEinfach euer Altpapier und Kartonagen getrennt und gebündelt am Samstag bis 8:00 Uhr auf den Gehweg legen. Wir holen es dann ab.\nBis ca. 11:00 Uhr habt ihr auch die Möglichkeit das Altpapier selbst auf dem Parkplatz des Sportparks in den Container zu entsorgen.
URL:https://svpforzen.de/event/altpapiersammlung/2025-06-28/
LOCATION:Gemeindegebiet Pforzen\, 87666 Pforzen
CATEGORIES:Allgemein,Termine & Veranstaltungen
ATTACH;FMTTYPE=image/png:https://svpforzen.de/wp-content/uploads/2021/12/BLOG_POSTS_NEWS_Altpapiersammlung.png
END:VEVENT
BEGIN:VEVENT
DTSTART;TZID=Europe/Berlin:20250618T190000
DTEND;TZID=Europe/Berlin:20250622T220000
DTSTAMP:20260419T221513
CREATED:20240219T100128Z
LAST-MODIFIED:20250512T202409Z
UID:10001092-1750273200-1750629600@svpforzen.de
SUMMARY:ABGESAGT: Spieka-Fahrt 2025 | Anmeldung
DESCRIPTION:Die Spieka-Fahrt 2025 wird aufgrund weniger Anmeldungen abgesagt. Es sind keine weiteren Anmeldungen möglich. \n—– \nErstmals seit sechs Jahren planen wir wieder eine Fahrt zu unseren Sportfreunden vom SV Spieka! \nDer Ausflug an die Wurster Nordseeküste findet von Mittwoch\, 18. Juni (Abfahrt spätabends) bis Sonntag\, 22. Juni 2025 (Rückkehr am Abend) statt. Auf dem Programm stehen neben dem traditionellen Kommerzabend unter anderem auch eine Schifffahrt\, eine Wattwanderung und die obligatorische Fahrt in die Hansestadt Hamburg. \nAnmeldungen sind ab sofort bei Marius Kreit (marius.kreit@svpforzen.de oder 0160/96049532) möglich. \n  \nFür Infos und Fragen stehen wir per WhatsApp (01525/1886749) oder E-Mail (mail@svpforzen.de) gerne zur Verfügung.
URL:https://svpforzen.de/event/spieka-fahrt-2025/
LOCATION:Spieka\, Spieka\, 27639\, Germany
CATEGORIES:Allgemein,Termine & Veranstaltungen
ATTACH;FMTTYPE=image/png:https://svpforzen.de/wp-content/uploads/2024/02/Spieka-Cancelled.png
END:VEVENT
BEGIN:VEVENT
DTSTART;TZID=Europe/Berlin:20250531T080000
DTEND;TZID=Europe/Berlin:20250531T110000
DTSTAMP:20260419T221513
CREATED:20240130T180129Z
LAST-MODIFIED:20240130T180203Z
UID:10000942-1748678400-1748689200@svpforzen.de
SUMMARY:Altpapiersammlung
DESCRIPTION:Einmal im Monat sammeln wir Altpapier und Kartonagen von allen Haushalten ein.\nEinfach euer Altpapier und Kartonagen getrennt und gebündelt am Samstag bis 8:00 Uhr auf den Gehweg legen. Wir holen es dann ab.\nBis ca. 11:00 Uhr habt ihr auch die Möglichkeit das Altpapier selbst auf dem Parkplatz des Sportparks in den Container zu entsorgen.
URL:https://svpforzen.de/event/altpapiersammlung/2025-05-31/
LOCATION:Gemeindegebiet Pforzen\, 87666 Pforzen
CATEGORIES:Allgemein,Termine & Veranstaltungen
ATTACH;FMTTYPE=image/png:https://svpforzen.de/wp-content/uploads/2021/12/BLOG_POSTS_NEWS_Altpapiersammlung.png
END:VEVENT
BEGIN:VEVENT
DTSTART;TZID=Europe/Berlin:20250519T180000
DTEND;TZID=Europe/Berlin:20250519T200000
DTSTAMP:20260419T221513
CREATED:20230130T173829Z
LAST-MODIFIED:20250418T113144Z
UID:10001103-1747677600-1747684800@svpforzen.de
SUMMARY:Kneipp erfahren und erleben
DESCRIPTION:Wir bieten für alle Interessenten am 19. Mai von 18:00 bis ca. 20:00 Uhr einen kostenlosen Vortrag „Kneipp erfahren und erleben!“ von Claudia Sachon (Kneipp Gesundheitstrainerin SKA) in der Aula der Grundschule Pforzen an. \nIn diesem Workshop lernen Sie das ganzheitliche Naturheilverfahren von Pfarrer Sebastian Kneipp mit seinen 5 Elementen – Wasser\, Heilkräuter\, Bewegung\, Ernährung und Lebensordnung – kennen. Die Wirkungsweise der Hydrotherapie (Wasser) steht dabei im Vordergrund. \nIn Theorie und Praxis widmen wir uns den einfachen Kneippanwendungen\, die Sie in ihren Alltag wunderbar integrieren können. \nAnmeldung sind bis spätestens 12. Mai bei Silke Miller (Tel. 08346-1886) möglich.
URL:https://svpforzen.de/event/kneipp/
LOCATION:Aula Grundschule\, Schulstr. 4\, 87666 Pforzen
CATEGORIES:Allgemein,Fitness & Gymnastik,Termine & Veranstaltungen
ATTACH;FMTTYPE=image/jpeg:https://svpforzen.de/wp-content/uploads/2023/01/Wassertreten_Copyright_Jaeckle_Kneipp-Bund-scaled.jpg
END:VEVENT
BEGIN:VEVENT
DTSTART;TZID=Europe/Berlin:20250426T080000
DTEND;TZID=Europe/Berlin:20250426T110000
DTSTAMP:20260419T221513
CREATED:20240130T180129Z
LAST-MODIFIED:20240130T180203Z
UID:10000941-1745654400-1745665200@svpforzen.de
SUMMARY:Altpapiersammlung
DESCRIPTION:Einmal im Monat sammeln wir Altpapier und Kartonagen von allen Haushalten ein.\nEinfach euer Altpapier und Kartonagen getrennt und gebündelt am Samstag bis 8:00 Uhr auf den Gehweg legen. Wir holen es dann ab.\nBis ca. 11:00 Uhr habt ihr auch die Möglichkeit das Altpapier selbst auf dem Parkplatz des Sportparks in den Container zu entsorgen.
URL:https://svpforzen.de/event/altpapiersammlung/2025-04-26/
LOCATION:Gemeindegebiet Pforzen\, 87666 Pforzen
CATEGORIES:Allgemein,Termine & Veranstaltungen
ATTACH;FMTTYPE=image/png:https://svpforzen.de/wp-content/uploads/2021/12/BLOG_POSTS_NEWS_Altpapiersammlung.png
END:VEVENT
END:VCALENDAR