BEGIN:VCALENDAR
VERSION:2.0
PRODID:-//SV Pforzen - ECPv6.15.20//NONSGML v1.0//EN
CALSCALE:GREGORIAN
METHOD:PUBLISH
X-ORIGINAL-URL:https://svpforzen.de
X-WR-CALDESC:Veranstaltungen für SV Pforzen
REFRESH-INTERVAL;VALUE=DURATION:PT1H
X-Robots-Tag:noindex
X-PUBLISHED-TTL:PT1H
BEGIN:VTIMEZONE
TZID:Europe/Berlin
BEGIN:DAYLIGHT
TZOFFSETFROM:+0100
TZOFFSETTO:+0200
TZNAME:CEST
DTSTART:20290325T010000
END:DAYLIGHT
BEGIN:STANDARD
TZOFFSETFROM:+0200
TZOFFSETTO:+0100
TZNAME:CET
DTSTART:20291028T010000
END:STANDARD
BEGIN:DAYLIGHT
TZOFFSETFROM:+0100
TZOFFSETTO:+0200
TZNAME:CEST
DTSTART:20300331T010000
END:DAYLIGHT
BEGIN:STANDARD
TZOFFSETFROM:+0200
TZOFFSETTO:+0100
TZNAME:CET
DTSTART:20301027T010000
END:STANDARD
BEGIN:DAYLIGHT
TZOFFSETFROM:+0100
TZOFFSETTO:+0200
TZNAME:CEST
DTSTART:20310330T010000
END:DAYLIGHT
BEGIN:STANDARD
TZOFFSETFROM:+0200
TZOFFSETTO:+0100
TZNAME:CET
DTSTART:20311026T010000
END:STANDARD
BEGIN:DAYLIGHT
TZOFFSETFROM:+0100
TZOFFSETTO:+0200
TZNAME:CEST
DTSTART:20320328T010000
END:DAYLIGHT
BEGIN:STANDARD
TZOFFSETFROM:+0200
TZOFFSETTO:+0100
TZNAME:CET
DTSTART:20321031T010000
END:STANDARD
END:VTIMEZONE
BEGIN:VEVENT
DTSTART;TZID=Europe/Berlin:20300525T080000
DTEND;TZID=Europe/Berlin:20300525T110000
DTSTAMP:20260420T081226
CREATED:20240130T180129Z
LAST-MODIFIED:20240130T180203Z
UID:10001106-1905926400-1905937200@svpforzen.de
SUMMARY:Altpapiersammlung
DESCRIPTION:Einmal im Monat sammeln wir Altpapier und Kartonagen von allen Haushalten ein.\nEinfach euer Altpapier und Kartonagen getrennt und gebündelt am Samstag bis 8:00 Uhr auf den Gehweg legen. Wir holen es dann ab.\nBis ca. 11:00 Uhr habt ihr auch die Möglichkeit das Altpapier selbst auf dem Parkplatz des Sportparks in den Container zu entsorgen.
URL:https://svpforzen.de/event/altpapiersammlung/2030-05-25/
LOCATION:Gemeindegebiet Pforzen\, 87666 Pforzen
CATEGORIES:Allgemein,Termine & Veranstaltungen
ATTACH;FMTTYPE=image/png:https://svpforzen.de/wp-content/uploads/2021/12/BLOG_POSTS_NEWS_Altpapiersammlung.png
END:VEVENT
BEGIN:VEVENT
DTSTART;TZID=Europe/Berlin:20300629T080000
DTEND;TZID=Europe/Berlin:20300629T110000
DTSTAMP:20260420T081226
CREATED:20240130T180129Z
LAST-MODIFIED:20240130T180203Z
UID:10001107-1908950400-1908961200@svpforzen.de
SUMMARY:Altpapiersammlung
DESCRIPTION:Einmal im Monat sammeln wir Altpapier und Kartonagen von allen Haushalten ein.\nEinfach euer Altpapier und Kartonagen getrennt und gebündelt am Samstag bis 8:00 Uhr auf den Gehweg legen. Wir holen es dann ab.\nBis ca. 11:00 Uhr habt ihr auch die Möglichkeit das Altpapier selbst auf dem Parkplatz des Sportparks in den Container zu entsorgen.
URL:https://svpforzen.de/event/altpapiersammlung/2030-06-29/
LOCATION:Gemeindegebiet Pforzen\, 87666 Pforzen
CATEGORIES:Allgemein,Termine & Veranstaltungen
ATTACH;FMTTYPE=image/png:https://svpforzen.de/wp-content/uploads/2021/12/BLOG_POSTS_NEWS_Altpapiersammlung.png
END:VEVENT
BEGIN:VEVENT
DTSTART;TZID=Europe/Berlin:20300727T080000
DTEND;TZID=Europe/Berlin:20300727T110000
DTSTAMP:20260420T081226
CREATED:20240130T180129Z
LAST-MODIFIED:20240130T180203Z
UID:10001108-1911369600-1911380400@svpforzen.de
SUMMARY:Altpapiersammlung
DESCRIPTION:Einmal im Monat sammeln wir Altpapier und Kartonagen von allen Haushalten ein.\nEinfach euer Altpapier und Kartonagen getrennt und gebündelt am Samstag bis 8:00 Uhr auf den Gehweg legen. Wir holen es dann ab.\nBis ca. 11:00 Uhr habt ihr auch die Möglichkeit das Altpapier selbst auf dem Parkplatz des Sportparks in den Container zu entsorgen.
URL:https://svpforzen.de/event/altpapiersammlung/2030-07-27/
LOCATION:Gemeindegebiet Pforzen\, 87666 Pforzen
CATEGORIES:Allgemein,Termine & Veranstaltungen
ATTACH;FMTTYPE=image/png:https://svpforzen.de/wp-content/uploads/2021/12/BLOG_POSTS_NEWS_Altpapiersammlung.png
END:VEVENT
BEGIN:VEVENT
DTSTART;TZID=Europe/Berlin:20300831T080000
DTEND;TZID=Europe/Berlin:20300831T110000
DTSTAMP:20260420T081226
CREATED:20240130T180129Z
LAST-MODIFIED:20240130T180203Z
UID:10001109-1914393600-1914404400@svpforzen.de
SUMMARY:Altpapiersammlung
DESCRIPTION:Einmal im Monat sammeln wir Altpapier und Kartonagen von allen Haushalten ein.\nEinfach euer Altpapier und Kartonagen getrennt und gebündelt am Samstag bis 8:00 Uhr auf den Gehweg legen. Wir holen es dann ab.\nBis ca. 11:00 Uhr habt ihr auch die Möglichkeit das Altpapier selbst auf dem Parkplatz des Sportparks in den Container zu entsorgen.
URL:https://svpforzen.de/event/altpapiersammlung/2030-08-31/
LOCATION:Gemeindegebiet Pforzen\, 87666 Pforzen
CATEGORIES:Allgemein,Termine & Veranstaltungen
ATTACH;FMTTYPE=image/png:https://svpforzen.de/wp-content/uploads/2021/12/BLOG_POSTS_NEWS_Altpapiersammlung.png
END:VEVENT
BEGIN:VEVENT
DTSTART;TZID=Europe/Berlin:20300928T080000
DTEND;TZID=Europe/Berlin:20300928T110000
DTSTAMP:20260420T081226
CREATED:20240130T180129Z
LAST-MODIFIED:20240130T180203Z
UID:10001110-1916812800-1916823600@svpforzen.de
SUMMARY:Altpapiersammlung
DESCRIPTION:Einmal im Monat sammeln wir Altpapier und Kartonagen von allen Haushalten ein.\nEinfach euer Altpapier und Kartonagen getrennt und gebündelt am Samstag bis 8:00 Uhr auf den Gehweg legen. Wir holen es dann ab.\nBis ca. 11:00 Uhr habt ihr auch die Möglichkeit das Altpapier selbst auf dem Parkplatz des Sportparks in den Container zu entsorgen.
URL:https://svpforzen.de/event/altpapiersammlung/2030-09-28/
LOCATION:Gemeindegebiet Pforzen\, 87666 Pforzen
CATEGORIES:Allgemein,Termine & Veranstaltungen
ATTACH;FMTTYPE=image/png:https://svpforzen.de/wp-content/uploads/2021/12/BLOG_POSTS_NEWS_Altpapiersammlung.png
END:VEVENT
BEGIN:VEVENT
DTSTART;TZID=Europe/Berlin:20301026T080000
DTEND;TZID=Europe/Berlin:20301026T110000
DTSTAMP:20260420T081226
CREATED:20240130T180129Z
LAST-MODIFIED:20240130T180203Z
UID:10001111-1919232000-1919242800@svpforzen.de
SUMMARY:Altpapiersammlung
DESCRIPTION:Einmal im Monat sammeln wir Altpapier und Kartonagen von allen Haushalten ein.\nEinfach euer Altpapier und Kartonagen getrennt und gebündelt am Samstag bis 8:00 Uhr auf den Gehweg legen. Wir holen es dann ab.\nBis ca. 11:00 Uhr habt ihr auch die Möglichkeit das Altpapier selbst auf dem Parkplatz des Sportparks in den Container zu entsorgen.
URL:https://svpforzen.de/event/altpapiersammlung/2030-10-26/
LOCATION:Gemeindegebiet Pforzen\, 87666 Pforzen
CATEGORIES:Allgemein,Termine & Veranstaltungen
ATTACH;FMTTYPE=image/png:https://svpforzen.de/wp-content/uploads/2021/12/BLOG_POSTS_NEWS_Altpapiersammlung.png
END:VEVENT
BEGIN:VEVENT
DTSTART;TZID=Europe/Berlin:20301130T080000
DTEND;TZID=Europe/Berlin:20301130T110000
DTSTAMP:20260420T081226
CREATED:20240130T180129Z
LAST-MODIFIED:20240130T180203Z
UID:10001112-1922256000-1922266800@svpforzen.de
SUMMARY:Altpapiersammlung
DESCRIPTION:Einmal im Monat sammeln wir Altpapier und Kartonagen von allen Haushalten ein.\nEinfach euer Altpapier und Kartonagen getrennt und gebündelt am Samstag bis 8:00 Uhr auf den Gehweg legen. Wir holen es dann ab.\nBis ca. 11:00 Uhr habt ihr auch die Möglichkeit das Altpapier selbst auf dem Parkplatz des Sportparks in den Container zu entsorgen.
URL:https://svpforzen.de/event/altpapiersammlung/2030-11-30/
LOCATION:Gemeindegebiet Pforzen\, 87666 Pforzen
CATEGORIES:Allgemein,Termine & Veranstaltungen
ATTACH;FMTTYPE=image/png:https://svpforzen.de/wp-content/uploads/2021/12/BLOG_POSTS_NEWS_Altpapiersammlung.png
END:VEVENT
BEGIN:VEVENT
DTSTART;TZID=Europe/Berlin:20301228T080000
DTEND;TZID=Europe/Berlin:20301228T110000
DTSTAMP:20260420T081226
CREATED:20240130T180129Z
LAST-MODIFIED:20240130T180203Z
UID:10001113-1924675200-1924686000@svpforzen.de
SUMMARY:Altpapiersammlung
DESCRIPTION:Einmal im Monat sammeln wir Altpapier und Kartonagen von allen Haushalten ein.\nEinfach euer Altpapier und Kartonagen getrennt und gebündelt am Samstag bis 8:00 Uhr auf den Gehweg legen. Wir holen es dann ab.\nBis ca. 11:00 Uhr habt ihr auch die Möglichkeit das Altpapier selbst auf dem Parkplatz des Sportparks in den Container zu entsorgen.
URL:https://svpforzen.de/event/altpapiersammlung/2030-12-28/
LOCATION:Gemeindegebiet Pforzen\, 87666 Pforzen
CATEGORIES:Allgemein,Termine & Veranstaltungen
ATTACH;FMTTYPE=image/png:https://svpforzen.de/wp-content/uploads/2021/12/BLOG_POSTS_NEWS_Altpapiersammlung.png
END:VEVENT
BEGIN:VEVENT
DTSTART;TZID=Europe/Berlin:20310125T080000
DTEND;TZID=Europe/Berlin:20310125T110000
DTSTAMP:20260420T081226
CREATED:20240130T180129Z
LAST-MODIFIED:20240130T180203Z
UID:10001115-1927094400-1927105200@svpforzen.de
SUMMARY:Altpapiersammlung
DESCRIPTION:Einmal im Monat sammeln wir Altpapier und Kartonagen von allen Haushalten ein.\nEinfach euer Altpapier und Kartonagen getrennt und gebündelt am Samstag bis 8:00 Uhr auf den Gehweg legen. Wir holen es dann ab.\nBis ca. 11:00 Uhr habt ihr auch die Möglichkeit das Altpapier selbst auf dem Parkplatz des Sportparks in den Container zu entsorgen.
URL:https://svpforzen.de/event/altpapiersammlung/2031-01-25/
LOCATION:Gemeindegebiet Pforzen\, 87666 Pforzen
CATEGORIES:Allgemein,Termine & Veranstaltungen
ATTACH;FMTTYPE=image/png:https://svpforzen.de/wp-content/uploads/2021/12/BLOG_POSTS_NEWS_Altpapiersammlung.png
END:VEVENT
BEGIN:VEVENT
DTSTART;TZID=Europe/Berlin:20310222T080000
DTEND;TZID=Europe/Berlin:20310222T110000
DTSTAMP:20260420T081226
CREATED:20240130T180129Z
LAST-MODIFIED:20240130T180203Z
UID:10001116-1929513600-1929524400@svpforzen.de
SUMMARY:Altpapiersammlung
DESCRIPTION:Einmal im Monat sammeln wir Altpapier und Kartonagen von allen Haushalten ein.\nEinfach euer Altpapier und Kartonagen getrennt und gebündelt am Samstag bis 8:00 Uhr auf den Gehweg legen. Wir holen es dann ab.\nBis ca. 11:00 Uhr habt ihr auch die Möglichkeit das Altpapier selbst auf dem Parkplatz des Sportparks in den Container zu entsorgen.
URL:https://svpforzen.de/event/altpapiersammlung/2031-02-22/
LOCATION:Gemeindegebiet Pforzen\, 87666 Pforzen
CATEGORIES:Allgemein,Termine & Veranstaltungen
ATTACH;FMTTYPE=image/png:https://svpforzen.de/wp-content/uploads/2021/12/BLOG_POSTS_NEWS_Altpapiersammlung.png
END:VEVENT
BEGIN:VEVENT
DTSTART;TZID=Europe/Berlin:20310329T080000
DTEND;TZID=Europe/Berlin:20310329T110000
DTSTAMP:20260420T081226
CREATED:20240130T180129Z
LAST-MODIFIED:20240130T180203Z
UID:10001117-1932537600-1932548400@svpforzen.de
SUMMARY:Altpapiersammlung
DESCRIPTION:Einmal im Monat sammeln wir Altpapier und Kartonagen von allen Haushalten ein.\nEinfach euer Altpapier und Kartonagen getrennt und gebündelt am Samstag bis 8:00 Uhr auf den Gehweg legen. Wir holen es dann ab.\nBis ca. 11:00 Uhr habt ihr auch die Möglichkeit das Altpapier selbst auf dem Parkplatz des Sportparks in den Container zu entsorgen.
URL:https://svpforzen.de/event/altpapiersammlung/2031-03-29/
LOCATION:Gemeindegebiet Pforzen\, 87666 Pforzen
CATEGORIES:Allgemein,Termine & Veranstaltungen
ATTACH;FMTTYPE=image/png:https://svpforzen.de/wp-content/uploads/2021/12/BLOG_POSTS_NEWS_Altpapiersammlung.png
END:VEVENT
END:VCALENDAR